BEGIN:VCALENDAR
VERSION:2.0
PRODID:-//Laguna Canyon Winery - ECPv6.15.17.1//NONSGML v1.0//EN
CALSCALE:GREGORIAN
METHOD:PUBLISH
X-WR-CALNAME:Laguna Canyon Winery
X-ORIGINAL-URL:https://lagunacanyonwinery.com
X-WR-CALDESC:Events for Laguna Canyon Winery
REFRESH-INTERVAL;VALUE=DURATION:PT1H
X-Robots-Tag:noindex
X-PUBLISHED-TTL:PT1H
BEGIN:VTIMEZONE
TZID:America/Los_Angeles
BEGIN:DAYLIGHT
TZOFFSETFROM:-0800
TZOFFSETTO:-0700
TZNAME:PDT
DTSTART:20250309T100000
END:DAYLIGHT
BEGIN:STANDARD
TZOFFSETFROM:-0700
TZOFFSETTO:-0800
TZNAME:PST
DTSTART:20251102T090000
END:STANDARD
BEGIN:DAYLIGHT
TZOFFSETFROM:-0800
TZOFFSETTO:-0700
TZNAME:PDT
DTSTART:20260308T100000
END:DAYLIGHT
BEGIN:STANDARD
TZOFFSETFROM:-0700
TZOFFSETTO:-0800
TZNAME:PST
DTSTART:20261101T090000
END:STANDARD
BEGIN:DAYLIGHT
TZOFFSETFROM:-0800
TZOFFSETTO:-0700
TZNAME:PDT
DTSTART:20270314T100000
END:DAYLIGHT
BEGIN:STANDARD
TZOFFSETFROM:-0700
TZOFFSETTO:-0800
TZNAME:PST
DTSTART:20271107T090000
END:STANDARD
END:VTIMEZONE
BEGIN:VEVENT
DTSTART;TZID=America/Los_Angeles:20260328T170000
DTEND;TZID=America/Los_Angeles:20260328T183000
DTSTAMP:20260420T004429
CREATED:20260204T010340Z
LAST-MODIFIED:20260320T010213Z
UID:53335-1774717200-1774722600@lagunacanyonwinery.com
SUMMARY:Private Reserve Tasting: Three New Small-Lot Reds
DESCRIPTION:You’re invited to a guided Reserve Red Wine Tasting featuring a curated lineup of small-lot reserve reds—including newly released and previously unreleased wines—plus a fourth guest-selected pour from our 91+ point reserve collection. \nDate: March 28\, 2026\nTime: 5:00 pm – 6:30 pm\nLocation: Laguna Winery – 2133 Laguna Canyon Road\, Laguna Beach\, CA \nAfter the strong response to our last Reserve tasting\, we’re featuring a new lineup of Reserve wines. \nThis tasting will feature a curated selection of Reserve reds\, including a mix of newly released wines and limited-production reserves that have not yet been formally offered to our email list. Each wine is crafted unfiltered\, in small lots\, and produced in extremely limited quantities of just 48 cases each. \nThe three Reserve wines include:\n• 2024 Russian River Valley Pinot Noir (25% whole cluster)\n• 2021 Beckstoffer Lake County Cabernet Sauvignon\n• 2021 Fountain Grove District 3-Barrel Red Blend (Cab/Syrah/Petite Sirah) \n• Guest choice: a Wine Enthusiast 92+ point reserve wine \nEach guest also selects a fourth pour from our previously released 91+ point reserve wines—perfect for comparing new releases alongside a proven standout. \nThe tasting will be guided by owner and winemaker\, a certified sommelier\, who will walk you through each wine in a relaxed\, small-group setting. \nThis is a focused tasting experience—not a formal wine pairing. A small selection of palate-neutral accompaniments (mini baguettes\, brie\, Marcona almonds\, and water) will be provided to cleanse the palate and keep the emphasis where it belongs: on the wines. \nThe early evening timing allows you to enjoy the tasting and still head out for dinner afterward\, making it the perfect start to your evening \nPricing: $30 per person for members | $35 per person for guests\nMembers may call for reservations and pay on-site to receive their discount. \nWe are limiting this tasting to a small group\, and several of these wines have not been previously offered. \nSpace is very limited—reserve your spot today to secure your tasting. \nCheers\,\nJ.J.\nLaguna Winery \nA rare experience. A rare pour.
URL:https://lagunacanyonwinery.com/event/valentines-reserve-red-tasting-guided-91-point-flight/
END:VEVENT
END:VCALENDAR